BEGIN:VCALENDAR
VERSION:2.0
PRODID:spatie/icalendar-generator
DESCRIPTION:Events from North Cascade Beekeepers
X-WR-CALDESC:Events from North Cascade Beekeepers
REFRESH-INTERVAL;VALUE=DURATION:PT1440M
X-PUBLISHED-TTL:PT1440M
BEGIN:VTIMEZONE
TZID:America/Vancouver
BEGIN:STANDARD
DTSTART:20251102T020000Z
TZOFFSETFROM:-0700
TZOFFSETTO:-0800
END:STANDARD
BEGIN:DAYLIGHT
DTSTART:20260308T020000Z
TZOFFSETFROM:-0800
TZOFFSETTO:-0700
END:DAYLIGHT
END:VTIMEZONE
BEGIN:VTIMEZONE
TZID:UTC
BEGIN:STANDARD
DTSTART:20250730T021151Z
TZOFFSETFROM:+0000
TZOFFSETTO:+0000
END:STANDARD
END:VTIMEZONE
BEGIN:VEVENT
UID:15-9
DTSTAMP:20260426T021151Z
SUMMARY:Casual Saturday Apiary Day
LOCATION:Growing Veterans  6458 Martin Place  Lynden WA 98264
ORGANIZER;CN=Gail Buce:MAILTO:ougreene@aol.com
DTSTART;TZID=America/Vancouver:20260418T130000
DTEND;TZID=America/Vancouver:20260418T153600
X-ALT-DESC;FMTTYPE=TEXT/HTML:Casual Saturday Apiary Day! Come join us in th
 e fun of installing a NUC plus observing what a dead out hive looks like!
CATEGORIES:General
URL;VALUE=URI:https://northcascadebeekeepers.com/index.php/mc-events/casual
 -saturday-apiary-day/
METHOD:PUBLISH
END:VEVENT
END:VCALENDAR