BEGIN:VCALENDAR
VERSION:2.0
PRODID:spatie/icalendar-generator
DESCRIPTION:Events from North Cascade Beekeepers
X-WR-CALDESC:Events from North Cascade Beekeepers
REFRESH-INTERVAL;VALUE=DURATION:PT1440M
X-PUBLISHED-TTL:PT1440M
BEGIN:VTIMEZONE
TZID:America/Vancouver
BEGIN:STANDARD
DTSTART:20251102T020000Z
TZOFFSETFROM:-0700
TZOFFSETTO:-0800
END:STANDARD
BEGIN:DAYLIGHT
DTSTART:20260308T020000Z
TZOFFSETFROM:-0800
TZOFFSETTO:-0700
END:DAYLIGHT
END:VTIMEZONE
BEGIN:VTIMEZONE
TZID:UTC
BEGIN:STANDARD
DTSTART:20250730T021122Z
TZOFFSETFROM:+0000
TZOFFSETTO:+0000
END:STANDARD
END:VTIMEZONE
BEGIN:VEVENT
UID:13-7
DTSTAMP:20260426T021122Z
SUMMARY:Honeybee Queen Rearing With Special Guest Seth Smith
LOCATION:Growing Veterans  6458 Martin Place  Lynden WA 98264
ORGANIZER;CN=Gail Buce:MAILTO:ougreene@aol.com
DTSTART;TZID=America/Vancouver:20260401T130000
DTEND;TZID=America/Vancouver:20260401T163000
X-ALT-DESC;FMTTYPE=TEXT/HTML:Come join us April 1\, 2026\, 1PM to 5:PM for 
 a lively meetup about Honeybee Queen Rearing with Master Beekeeper Seth Sm
 ith. Seth is widely recognized for his expertise in commercial beekeeping 
 and his extensive educational work in the Pacific Northwest. This educatio
 nal event will be suitable for all levels of beekeeper knowledge. There is
 &amp;hellip\;
CATEGORIES:General
URL;VALUE=URI:https://northcascadebeekeepers.com/index.php/mc-events/honeyb
 ee-queen-rearing-with-special-guest-seth-smith/
METHOD:PUBLISH
END:VEVENT
END:VCALENDAR