BEGIN:VCALENDAR
VERSION:2.0
PRODID:spatie/icalendar-generator
DESCRIPTION:Events from North Cascade Beekeepers
X-WR-CALDESC:Events from North Cascade Beekeepers
REFRESH-INTERVAL;VALUE=DURATION:PT1440M
X-PUBLISHED-TTL:PT1440M
BEGIN:VTIMEZONE
TZID:America/Vancouver
BEGIN:STANDARD
DTSTART:20251102T020000Z
TZOFFSETFROM:-0700
TZOFFSETTO:-0800
END:STANDARD
BEGIN:DAYLIGHT
DTSTART:20260308T020000Z
TZOFFSETFROM:-0800
TZOFFSETTO:-0700
END:DAYLIGHT
END:VTIMEZONE
BEGIN:VTIMEZONE
TZID:UTC
BEGIN:STANDARD
DTSTART:20250730T040539Z
TZOFFSETFROM:+0000
TZOFFSETTO:+0000
END:STANDARD
END:VTIMEZONE
BEGIN:VEVENT
UID:9-5
DTSTAMP:20260426T040539Z
SUMMARY:Beginning Beekeeping
LOCATION:
ORGANIZER;CN=Gail Buce:MAILTO:ougreene@aol.com
RRULE:FREQ=WEEKLY;UNTIL=20260329T000000Z
DTSTART;TZID=America/Vancouver;VALUE=DATE:20260315
DTEND;TZID=America/Vancouver;VALUE=DATE:20260316
X-ALT-DESC;FMTTYPE=TEXT/HTML:Beginning Beekeepers\; Learn beginning beekeep
 ers from experienced members of North Cascade Beekeepers group. These are 
 5 – 2 hour sessions every Sunday in March\, 1\, 8\, 15\, 22\, 29. Beginn
 er Beekeepers curriculum is from Washington State Beekeepers Association. 
 Course manual is provided to students and at the end of the final session\
 , an open book&amp;hellip\;
CATEGORIES:General
URL;VALUE=URI:https://northcascadebeekeepers.com/index.php/mc-events/beginn
 ing-beekeeping/?mc_id=9
METHOD:PUBLISH
END:VEVENT
END:VCALENDAR