BEGIN:VCALENDAR
VERSION:2.0
PRODID:spatie/icalendar-generator
DESCRIPTION:Events from North Cascade Beekeepers
X-WR-CALDESC:Events from North Cascade Beekeepers
REFRESH-INTERVAL;VALUE=DURATION:PT1440M
X-PUBLISHED-TTL:PT1440M
BEGIN:VTIMEZONE
TZID:America/Vancouver
BEGIN:STANDARD
DTSTART:20251102T020000Z
TZOFFSETFROM:-0700
TZOFFSETTO:-0800
END:STANDARD
BEGIN:DAYLIGHT
DTSTART:20260308T020000Z
TZOFFSETFROM:-0800
TZOFFSETTO:-0700
END:DAYLIGHT
END:VTIMEZONE
BEGIN:VTIMEZONE
TZID:UTC
BEGIN:STANDARD
DTSTART:20250730T035807Z
TZOFFSETFROM:+0000
TZOFFSETTO:+0000
END:STANDARD
END:VTIMEZONE
BEGIN:VEVENT
UID:14-8
DTSTAMP:20260426T035807Z
SUMMARY:NCB Swarms - Are You Ready?
LOCATION:Growing Veterans  6458 Martin Place  Lynden WA 98264
ORGANIZER;CN=Gail Buce:MAILTO:ougreene@aol.com
DTSTART;TZID=America/Vancouver:20260407T180000
DTEND;TZID=America/Vancouver:20260407T200000
X-ALT-DESC;FMTTYPE=TEXT/HTML:Come join us for this educational events. All 
 levels of beekeepers welcome. You must be a NCB Member to attend event - J
 OIN US  if not yet an NCB member. We are a dues free group :) Topic: NCB 
 to discuss swarming - the upcoming season - Are You Ready?? also discussed
  is about formation&amp;hellip\;
CATEGORIES:General
URL;VALUE=URI:https://northcascadebeekeepers.com/index.php/mc-events/ncb-sw
 arms-are-you-ready/
METHOD:PUBLISH
END:VEVENT
END:VCALENDAR