BEGIN:VCALENDAR
VERSION:2.0
PRODID:spatie/icalendar-generator
DESCRIPTION:Events from North Cascade Beekeepers
X-WR-CALDESC:Events from North Cascade Beekeepers
REFRESH-INTERVAL;VALUE=DURATION:PT1440M
X-PUBLISHED-TTL:PT1440M
BEGIN:VTIMEZONE
TZID:America/Vancouver
BEGIN:STANDARD
DTSTART:20251102T020000Z
TZOFFSETFROM:-0700
TZOFFSETTO:-0800
END:STANDARD
BEGIN:DAYLIGHT
DTSTART:20260308T020000Z
TZOFFSETFROM:-0800
TZOFFSETTO:-0700
END:DAYLIGHT
END:VTIMEZONE
BEGIN:VTIMEZONE
TZID:UTC
BEGIN:STANDARD
DTSTART:20250730T040507Z
TZOFFSETFROM:+0000
TZOFFSETTO:+0000
END:STANDARD
END:VTIMEZONE
BEGIN:VEVENT
UID:12-6
DTSTAMP:20260426T040507Z
SUMMARY:Whatcom Farm Expo!
LOCATION:Northwest Washington Fairgrounds  1775 Front St  Lynden WA  98264
ORGANIZER;CN=Gail Buce:MAILTO:ougreene@aol.com
DTSTART;TZID=America/Vancouver:20260228T090000
DTEND;TZID=America/Vancouver:20260228T140000
X-ALT-DESC;FMTTYPE=TEXT/HTML:Come visit North Cascade Beekeepers at the Wha
 tcom Farm Expo! When: February 28\, 2026 9AM-2PM Location:  1775 Front St
 \, Lynden\, WA 98264 We will be at the booth next to Growing Veterans
CATEGORIES:General
URL;VALUE=URI:https://northcascadebeekeepers.com/index.php/mc-events/whatco
 m-farm-expo/
METHOD:PUBLISH
END:VEVENT
END:VCALENDAR